BEGIN:VCALENDAR
VERSION:2.0
PRODID:-//Active Education Australia - ECPv6.15.19//NONSGML v1.0//EN
CALSCALE:GREGORIAN
METHOD:PUBLISH
X-WR-CALNAME:Active Education Australia
X-ORIGINAL-URL:https://activeeducationaustralia.edu.au
X-WR-CALDESC:Events for Active Education Australia
REFRESH-INTERVAL;VALUE=DURATION:PT1H
X-Robots-Tag:noindex
X-PUBLISHED-TTL:PT1H
BEGIN:VTIMEZONE
TZID:Australia/Melbourne
BEGIN:STANDARD
TZOFFSETFROM:+1100
TZOFFSETTO:+1000
TZNAME:AEST
DTSTART:20250405T160000
END:STANDARD
BEGIN:DAYLIGHT
TZOFFSETFROM:+1000
TZOFFSETTO:+1100
TZNAME:AEDT
DTSTART:20251004T160000
END:DAYLIGHT
BEGIN:STANDARD
TZOFFSETFROM:+1100
TZOFFSETTO:+1000
TZNAME:AEST
DTSTART:20260404T160000
END:STANDARD
BEGIN:DAYLIGHT
TZOFFSETFROM:+1000
TZOFFSETTO:+1100
TZNAME:AEDT
DTSTART:20261003T160000
END:DAYLIGHT
BEGIN:STANDARD
TZOFFSETFROM:+1100
TZOFFSETTO:+1000
TZNAME:AEST
DTSTART:20270403T160000
END:STANDARD
BEGIN:DAYLIGHT
TZOFFSETFROM:+1000
TZOFFSETTO:+1100
TZNAME:AEDT
DTSTART:20271002T160000
END:DAYLIGHT
END:VTIMEZONE
BEGIN:VEVENT
DTSTART;TZID=Australia/Melbourne:20260611T083000
DTEND;TZID=Australia/Melbourne:20260611T153000
DTSTAMP:20260421T211935
CREATED:20260324T124935Z
LAST-MODIFIED:20260325T031729Z
UID:21306-1781166600-1781191800@activeeducationaustralia.edu.au
SUMMARY:HOPE Conference 26 in partnership with Active Education Australia
DESCRIPTION:Designed for Health\, Outdoor and Physical Education teachers from F–10 through to senior levels\, this conference offers practical strategies and insights that are readily adaptable across all classrooms\, including VCE\, HSC\, VET and other senior settings. With a focus on practical ideas that work in real classrooms\, gyms and outdoor spaces\, the sessions more broadly promote active classroom practice. \nAcross the day\, you will explore: \n\nHigh-impact lesson openers that build connection and set the tone from the first five minutes\nSmall-sided and game-based formats that develop thinking\, participation and skill\nAdaptable\, low-prep activities that maximise involvement in any setting\nPractical assessment frameworks and live demonstrations that capture learning without stopping play\nLesson design structures that sustain motivation and maximise participation\nMindset and regulation strategies that support confident\, engaged learners\nStrategies to support progression into senior pathways\, including VCE\, HSC and VET\n\n  \nEvery session is grounded in classroom reality. You will leave with routines\, game structures and practical strategies you can implement immediately. \nWhether you are refining your F–10 HPE program or looking to bring more movement and participation into your wider classroom practice\, HOPE 2026 is built to give you ideas that translate directly into action.\n\nRegistration Fee:  Early Bird Registration: $175 | Standard Registration: $220  | Students: $110 \nBecome a Student Member Today Click Here. Ensure you complete the activation of your membership for student pricing to be applied. For further information call the office on 9274 8900. \nRegistration includes:  Catering – morning tea and lunch \nRegistration is subject to Active Education Australia’s Terms and Conditions available HERE
URL:https://activeeducationaustralia.edu.au/event/hope-conference-26-in-partnership-with-active-education-australia/
ATTACH;FMTTYPE=image/jpeg:https://activeeducationaustralia.edu.au/wp-content/uploads/2026/03/HOPE-Conference-2026-A4-Landscape-1.jpg
END:VEVENT
END:VCALENDAR